BEGIN:VCALENDAR
VERSION:2.0
PRODID:-//Fort Worth Museum of Science and History - ECPv6.15.20//NONSGML v1.0//EN
CALSCALE:GREGORIAN
METHOD:PUBLISH
X-WR-CALNAME:Fort Worth Museum of Science and History
X-ORIGINAL-URL:https://www.fwmuseum.org
X-WR-CALDESC:Events for Fort Worth Museum of Science and History
REFRESH-INTERVAL;VALUE=DURATION:PT1H
X-Robots-Tag:noindex
X-PUBLISHED-TTL:PT1H
BEGIN:VTIMEZONE
TZID:America/Chicago
BEGIN:DAYLIGHT
TZOFFSETFROM:-0600
TZOFFSETTO:-0500
TZNAME:CDT
DTSTART:20250309T080000
END:DAYLIGHT
BEGIN:STANDARD
TZOFFSETFROM:-0500
TZOFFSETTO:-0600
TZNAME:CST
DTSTART:20251102T070000
END:STANDARD
BEGIN:DAYLIGHT
TZOFFSETFROM:-0600
TZOFFSETTO:-0500
TZNAME:CDT
DTSTART:20260308T080000
END:DAYLIGHT
BEGIN:STANDARD
TZOFFSETFROM:-0500
TZOFFSETTO:-0600
TZNAME:CST
DTSTART:20261101T070000
END:STANDARD
BEGIN:DAYLIGHT
TZOFFSETFROM:-0600
TZOFFSETTO:-0500
TZNAME:CDT
DTSTART:20270314T080000
END:DAYLIGHT
BEGIN:STANDARD
TZOFFSETFROM:-0500
TZOFFSETTO:-0600
TZNAME:CST
DTSTART:20271107T070000
END:STANDARD
END:VTIMEZONE
BEGIN:VEVENT
DTSTART;TZID=America/Chicago:20260314T100000
DTEND;TZID=America/Chicago:20260314T140000
DTSTAMP:20260422T123040
CREATED:20260213T162144Z
LAST-MODIFIED:20260213T162718Z
UID:10003174-1773482400-1773496800@www.fwmuseum.org
SUMMARY:Spring Break Kick-Off Party
DESCRIPTION:Kick off Spring Break at the Fort Worth Museum of Science & History on Saturday\, March 14 from 10 AM – 2 PM! We’re celebrating the start of Spring Break in the best way possible\, with community\, creativity\, and a whole lot of bubbles and fun. \nEnjoy hands-on crafts and activities hosted by our team and our amazing community partners\, test your soccer skills with the Fort Worth Vaqueros\, play with bubbles\, dance\, then cool off and enjoy a treat from local favorites like Melt Ice Creams\, Beyond the Box Catering\, and Lemon Tina Lemonade. Plus\, don’t miss a special meet-and-greet with our favorite dino… Dynamo! \n\n\nBubbles\, music\, and family memories will make this the perfect way to start your Spring Break. Gather your friends\, bring the whole family\, and come celebrate with us!
URL:https://www.fwmuseum.org/calendar/spring-break-kick-off-party/
LOCATION:Fort Worth Museum of Science and History\, 1600 Gendy Street\, Fort Worth\, TX\, 76107\, United States
CATEGORIES:Public Programs
END:VEVENT
END:VCALENDAR