BEGIN:VCALENDAR
VERSION:2.0
PRODID:-//Fort Worth Museum of Science and History - ECPv6.15.20//NONSGML v1.0//EN
CALSCALE:GREGORIAN
METHOD:PUBLISH
X-WR-CALNAME:Fort Worth Museum of Science and History
X-ORIGINAL-URL:https://www.fwmuseum.org
X-WR-CALDESC:Events for Fort Worth Museum of Science and History
REFRESH-INTERVAL;VALUE=DURATION:PT1H
X-Robots-Tag:noindex
X-PUBLISHED-TTL:PT1H
BEGIN:VTIMEZONE
TZID:America/Chicago
BEGIN:DAYLIGHT
TZOFFSETFROM:-0600
TZOFFSETTO:-0500
TZNAME:CDT
DTSTART:20250309T080000
END:DAYLIGHT
BEGIN:STANDARD
TZOFFSETFROM:-0500
TZOFFSETTO:-0600
TZNAME:CST
DTSTART:20251102T070000
END:STANDARD
BEGIN:DAYLIGHT
TZOFFSETFROM:-0600
TZOFFSETTO:-0500
TZNAME:CDT
DTSTART:20260308T080000
END:DAYLIGHT
BEGIN:STANDARD
TZOFFSETFROM:-0500
TZOFFSETTO:-0600
TZNAME:CST
DTSTART:20261101T070000
END:STANDARD
BEGIN:DAYLIGHT
TZOFFSETFROM:-0600
TZOFFSETTO:-0500
TZNAME:CDT
DTSTART:20270314T080000
END:DAYLIGHT
BEGIN:STANDARD
TZOFFSETFROM:-0500
TZOFFSETTO:-0600
TZNAME:CST
DTSTART:20271107T070000
END:STANDARD
END:VTIMEZONE
BEGIN:VEVENT
DTSTART;TZID=America/Chicago:20260329T123000
DTEND;TZID=America/Chicago:20260329T153000
DTSTAMP:20260422T064716
CREATED:20260320T165703Z
LAST-MODIFIED:20260320T174608Z
UID:10003191-1774787400-1774798200@www.fwmuseum.org
SUMMARY:Hip Hop MD Presentation and Book Signing
DESCRIPTION:Zombie Spiders and Asteroid Blasters!\nJoin Hip Hop MD from Hip Hop Science for a special presentation and book signing of his new book Zombie Spiders and Asteroid Blasters. \n\n12:30 PM – First Presentation\n1:30 PM – Second Presentation\n2:30 PM – 3:30 PM – Book Signing + Meet and Greet\n\nAbout Zombie Spiders and Asteroid Blasters:\nTake a wild ride with Maynard Okereke\, the Hip Hop MD\, into some of the most fascinating and strange corners of scientific research\, from physics and engineering to ecology and neuroscience. \nAbout Maynard Okereke\, the Hip Hop MD:\nMaynard Okereke\, aka the Hip Hop MD\, is an award-winning science communicator\, STEM personality\, and keynote speaker. He founded Hip Hop Science to encourage minorities and youth to pursue more advanced careers in STEM.
URL:https://www.fwmuseum.org/calendar/hip-hop-md-presentation-and-book-signing/
LOCATION:Fort Worth Museum of Science and History\, 1600 Gendy Street\, Fort Worth\, TX\, 76107\, United States
CATEGORIES:Public Programs
END:VEVENT
BEGIN:VEVENT
DTSTART;TZID=America/Chicago:20260404T090000
DTEND;TZID=America/Chicago:20260404T110000
DTSTAMP:20260422T064716
CREATED:20260320T162441Z
LAST-MODIFIED:20260325T172854Z
UID:10003185-1775293200-1775300400@www.fwmuseum.org
SUMMARY:Creative Workshop with Project Propagate
DESCRIPTION:Purchase Tickets: https://buy.fwmuseum.org/23678/23681 \nUnlock your creative magic in The Art of Intuition! This class blends art\, craft\, and a touch of magic to help you connect with your inner artist. You’ll pick from the supplies in our art supply thrift pop up shop to create one-of-a-kind creations that are totally unique to you! We will have a few examples of things you could make but truly your imagination and creativity can run wild in this workshop!\nPerfect for anyone craving inspiration\, self-expression\, or a deeper connection to their creative intuition. \nYour workshop ticket includes a creative workshop led by Project Propagate\, first dibs at the materials in the Art Supply Thrift Pop-Up Shop\, and admission to the Museum! \nInstructor Bio: This class is taught by Sam Matthews and Andrea Fernandez. They are artists working with Project Propagate a 501 c3 that Sam co founded that focuses on creative reuse through community events gathering unwanted art supplies and redistributing them through pay what you can pop up shops! They are passionate about empowering others to tap into their own creativity while and believe that everyone has an artist inside them but often times lack the space\, time\, and resources to explore their creative potential.
URL:https://www.fwmuseum.org/calendar/creative-workshop-with-project-propagate/
LOCATION:Fort Worth Museum of Science and History\, 1600 Gendy Street\, Fort Worth\, TX\, 76107\, United States
CATEGORIES:Public Programs
END:VEVENT
BEGIN:VEVENT
DTSTART;TZID=America/Chicago:20260404T100000
DTEND;TZID=America/Chicago:20260404T160000
DTSTAMP:20260422T064716
CREATED:20260320T162701Z
LAST-MODIFIED:20260325T173224Z
UID:10003186-1775296800-1775318400@www.fwmuseum.org
SUMMARY:Art Supply Pop-Up Thrift Shop
DESCRIPTION:Museum guests will be able to shop for a variety of gently used art supplies from 10AM-4PM. \nThis event is in partnership with Project Propagate\, a New Jersey 501 c3 that focuses on creative reuse through community events by gathering unwanted art supplies and redistributing them through pay what you can pop up shops! \nThey are currently on a road trip to California and have added the Museum as one of their stops for a workshop and pop-up shop. \nJoin Project Propagate’s creative workshop on April 4th: https://www.fwmuseum.org/calendar/creative-workshop-with-project-propagate/
URL:https://www.fwmuseum.org/calendar/art-supply-pop-up-thrift-shop/
LOCATION:Fort Worth Museum of Science and History\, 1600 Gendy Street\, Fort Worth\, TX\, 76107\, United States
CATEGORIES:Public Programs
END:VEVENT
END:VCALENDAR