BEGIN:VCALENDAR
VERSION:2.0
PRODID:-//Fort Worth Museum of Science and History - ECPv6.15.20//NONSGML v1.0//EN
CALSCALE:GREGORIAN
METHOD:PUBLISH
X-ORIGINAL-URL:https://www.fwmuseum.org
X-WR-CALDESC:Events for Fort Worth Museum of Science and History
REFRESH-INTERVAL;VALUE=DURATION:PT1H
X-Robots-Tag:noindex
X-PUBLISHED-TTL:PT1H
BEGIN:VTIMEZONE
TZID:America/Chicago
BEGIN:DAYLIGHT
TZOFFSETFROM:-0600
TZOFFSETTO:-0500
TZNAME:CDT
DTSTART:20250309T080000
END:DAYLIGHT
BEGIN:STANDARD
TZOFFSETFROM:-0500
TZOFFSETTO:-0600
TZNAME:CST
DTSTART:20251102T070000
END:STANDARD
BEGIN:DAYLIGHT
TZOFFSETFROM:-0600
TZOFFSETTO:-0500
TZNAME:CDT
DTSTART:20260308T080000
END:DAYLIGHT
BEGIN:STANDARD
TZOFFSETFROM:-0500
TZOFFSETTO:-0600
TZNAME:CST
DTSTART:20261101T070000
END:STANDARD
BEGIN:DAYLIGHT
TZOFFSETFROM:-0600
TZOFFSETTO:-0500
TZNAME:CDT
DTSTART:20270314T080000
END:DAYLIGHT
BEGIN:STANDARD
TZOFFSETFROM:-0500
TZOFFSETTO:-0600
TZNAME:CST
DTSTART:20271107T070000
END:STANDARD
END:VTIMEZONE
BEGIN:VEVENT
DTSTART;TZID=America/Chicago:20260422T100000
DTEND;TZID=America/Chicago:20260422T140000
DTSTAMP:20260422T022121
CREATED:20260331T203234Z
LAST-MODIFIED:20260331T203234Z
UID:10003453-1776852000-1776866400@www.fwmuseum.org
SUMMARY:Earth Day
DESCRIPTION:Celebrate the planet with the Fort Worth Museum of Science and History on Earth Day! Enjoy a day of hands-on activities exploring nature\, plants\, and animals\, all designed to spark curiosity and care for the environment. \nWith help from community partners\, discover interactive stations\, creative projects\, and simple ways to make a positive impact. Perfect for all ages\, this program invites you to learn\, play\, and grow a greener future together. \nACTIVITIES: \n\nObservation Bee Hive\nWildflower Seed Painting\nButterfly Camouflage\nDIY Monarch Butterfly Rest Stop\nAnimal Track Matching Game\nDIY Bee Hotel\nand much more!\n\nCOMMUNITY PARTNERS: \n\nTarrant County Master Gardeners\nOliver Nature Park\nLiteracy United\nCedar Hill State Park\nBee Sweet Honey\nTarrant Regional Water District
URL:https://www.fwmuseum.org/calendar/earth-day/
LOCATION:Fort Worth Museum of Science and History\, 1600 Gendy Street\, Fort Worth\, TX\, 76107\, United States
CATEGORIES:Public Programs
END:VEVENT
BEGIN:VEVENT
DTSTART;TZID=America/Chicago:20260425T103000
DTEND;TZID=America/Chicago:20260425T110000
DTSTAMP:20260422T022121
CREATED:20260331T215946Z
LAST-MODIFIED:20260331T215946Z
UID:10003457-1777113000-1777114800@www.fwmuseum.org
SUMMARY:The Questioneers Story Time
DESCRIPTION:Join us for a Questioneers-themed story time\, then go off and explore our newest exhibit\, The Questioneers: Read. Question. Think. PLAY! \nApril 11 | 10:30AM\nGuest Reader: Becca Waugh\nBook: Aaron Slater\, Illustrator \nApril 16 | 1:00PM *Virtual Story Time with the Author!\nGuest Reader: Andrea Beatty\nBook: Iggy Peck\, Architect \nApril 25 | 10:30AM\nGuest Reader: Dr. Rachel Capua\nBook: Sofia Valdez\, Future Prez \nMay 16 | 10:30AM\nGuest Reader: Elizabeth\nBook: Aaron Slater\, Illustrator
URL:https://www.fwmuseum.org/calendar/the-questioneers-story-time/2026-04-25/
LOCATION:Fort Worth Museum of Science and History\, 1600 Gendy Street\, Fort Worth\, TX\, 76107\, United States
CATEGORIES:Public Programs
END:VEVENT
END:VCALENDAR