BEGIN:VCALENDAR
VERSION:2.0
PRODID:-//Fort Worth Museum of Science and History - ECPv6.15.20//NONSGML v1.0//EN
CALSCALE:GREGORIAN
METHOD:PUBLISH
X-WR-CALNAME:Fort Worth Museum of Science and History
X-ORIGINAL-URL:https://www.fwmuseum.org
X-WR-CALDESC:Events for Fort Worth Museum of Science and History
REFRESH-INTERVAL;VALUE=DURATION:PT1H
X-Robots-Tag:noindex
X-PUBLISHED-TTL:PT1H
BEGIN:VTIMEZONE
TZID:America/Chicago
BEGIN:DAYLIGHT
TZOFFSETFROM:-0600
TZOFFSETTO:-0500
TZNAME:CDT
DTSTART:20260308T080000
END:DAYLIGHT
BEGIN:STANDARD
TZOFFSETFROM:-0500
TZOFFSETTO:-0600
TZNAME:CST
DTSTART:20261101T070000
END:STANDARD
BEGIN:DAYLIGHT
TZOFFSETFROM:-0600
TZOFFSETTO:-0500
TZNAME:CDT
DTSTART:20270314T080000
END:DAYLIGHT
BEGIN:STANDARD
TZOFFSETFROM:-0500
TZOFFSETTO:-0600
TZNAME:CST
DTSTART:20271107T070000
END:STANDARD
BEGIN:DAYLIGHT
TZOFFSETFROM:-0600
TZOFFSETTO:-0500
TZNAME:CDT
DTSTART:20280312T080000
END:DAYLIGHT
BEGIN:STANDARD
TZOFFSETFROM:-0500
TZOFFSETTO:-0600
TZNAME:CST
DTSTART:20281105T070000
END:STANDARD
END:VTIMEZONE
BEGIN:VEVENT
DTSTART;TZID=America/Chicago:20270901T150000
DTEND;TZID=America/Chicago:20270901T170000
DTSTAMP:20260422T211124
CREATED:20251031T233601Z
LAST-MODIFIED:20251031T233601Z
UID:10002770-1819810800-1819818000@www.fwmuseum.org
SUMMARY:Sensory Time
DESCRIPTION:Every first Wednesday of the month\, lighting and sound will be adjusted to accommodate Museum visitors needs from 3PM – 5PM. This is included with regular admission.
URL:https://www.fwmuseum.org/calendar/sensory-time/2027-09-01/
LOCATION:Fort Worth Museum of Science and History\, 1600 Gendy Street\, Fort Worth\, TX\, 76107\, United States
CATEGORIES:Sensory Friendly
END:VEVENT
BEGIN:VEVENT
DTSTART;VALUE=DATE:20270906
DTEND;VALUE=DATE:20270907
DTSTAMP:20260422T211124
CREATED:20251203T230314Z
LAST-MODIFIED:20260325T215939Z
UID:10002974-1820188800-1820275199@www.fwmuseum.org
SUMMARY:Museum Closed
DESCRIPTION:Museum Hours\nTuesday – Saturday | 10 AM – 5 PM\nSunday | Noon – 5 PM\nMonday | Closed
URL:https://www.fwmuseum.org/calendar/museum-closed-3-2/2027-09-06/
LOCATION:Fort Worth Museum of Science and History\, 1600 Gendy Street\, Fort Worth\, TX\, 76107\, United States
END:VEVENT
BEGIN:VEVENT
DTSTART;TZID=America/Chicago:20270907T090000
DTEND;TZID=America/Chicago:20270907T100000
DTSTAMP:20260422T211124
CREATED:20260325T215621Z
LAST-MODIFIED:20260325T215621Z
UID:10003266-1820307600-1820311200@www.fwmuseum.org
SUMMARY:Member Morning
DESCRIPTION:Museum Members get early entry to the TCU Children’s Gallery every Tuesday from 9AM-10AM! \nEarly entry only applies to the TCU Children’s Gallery\, the rest of the Museum opens at 10AM. \nNot a Member yet? Click here to join!
URL:https://www.fwmuseum.org/calendar/member-morning/2027-09-07/
LOCATION:Fort Worth Museum of Science and History\, 1600 Gendy Street\, Fort Worth\, TX\, 76107\, United States
CATEGORIES:Member Events
END:VEVENT
BEGIN:VEVENT
DTSTART;VALUE=DATE:20270913
DTEND;VALUE=DATE:20270914
DTSTAMP:20260422T211124
CREATED:20251203T230314Z
LAST-MODIFIED:20260325T215939Z
UID:10002975-1820793600-1820879999@www.fwmuseum.org
SUMMARY:Museum Closed
DESCRIPTION:Museum Hours\nTuesday – Saturday | 10 AM – 5 PM\nSunday | Noon – 5 PM\nMonday | Closed
URL:https://www.fwmuseum.org/calendar/museum-closed-3-2/2027-09-13/
LOCATION:Fort Worth Museum of Science and History\, 1600 Gendy Street\, Fort Worth\, TX\, 76107\, United States
END:VEVENT
BEGIN:VEVENT
DTSTART;TZID=America/Chicago:20270914T090000
DTEND;TZID=America/Chicago:20270914T100000
DTSTAMP:20260422T211124
CREATED:20260325T215621Z
LAST-MODIFIED:20260325T215621Z
UID:10003267-1820912400-1820916000@www.fwmuseum.org
SUMMARY:Member Morning
DESCRIPTION:Museum Members get early entry to the TCU Children’s Gallery every Tuesday from 9AM-10AM! \nEarly entry only applies to the TCU Children’s Gallery\, the rest of the Museum opens at 10AM. \nNot a Member yet? Click here to join!
URL:https://www.fwmuseum.org/calendar/member-morning/2027-09-14/
LOCATION:Fort Worth Museum of Science and History\, 1600 Gendy Street\, Fort Worth\, TX\, 76107\, United States
CATEGORIES:Member Events
END:VEVENT
BEGIN:VEVENT
DTSTART;VALUE=DATE:20270920
DTEND;VALUE=DATE:20270921
DTSTAMP:20260422T211124
CREATED:20251203T230314Z
LAST-MODIFIED:20260325T215939Z
UID:10002976-1821398400-1821484799@www.fwmuseum.org
SUMMARY:Museum Closed
DESCRIPTION:Museum Hours\nTuesday – Saturday | 10 AM – 5 PM\nSunday | Noon – 5 PM\nMonday | Closed
URL:https://www.fwmuseum.org/calendar/museum-closed-3-2/2027-09-20/
LOCATION:Fort Worth Museum of Science and History\, 1600 Gendy Street\, Fort Worth\, TX\, 76107\, United States
END:VEVENT
BEGIN:VEVENT
DTSTART;TZID=America/Chicago:20270921T090000
DTEND;TZID=America/Chicago:20270921T100000
DTSTAMP:20260422T211124
CREATED:20260325T215621Z
LAST-MODIFIED:20260325T215621Z
UID:10003268-1821517200-1821520800@www.fwmuseum.org
SUMMARY:Member Morning
DESCRIPTION:Museum Members get early entry to the TCU Children’s Gallery every Tuesday from 9AM-10AM! \nEarly entry only applies to the TCU Children’s Gallery\, the rest of the Museum opens at 10AM. \nNot a Member yet? Click here to join!
URL:https://www.fwmuseum.org/calendar/member-morning/2027-09-21/
LOCATION:Fort Worth Museum of Science and History\, 1600 Gendy Street\, Fort Worth\, TX\, 76107\, United States
CATEGORIES:Member Events
END:VEVENT
BEGIN:VEVENT
DTSTART;VALUE=DATE:20270927
DTEND;VALUE=DATE:20270928
DTSTAMP:20260422T211124
CREATED:20251203T230314Z
LAST-MODIFIED:20260325T215939Z
UID:10002977-1822003200-1822089599@www.fwmuseum.org
SUMMARY:Museum Closed
DESCRIPTION:Museum Hours\nTuesday – Saturday | 10 AM – 5 PM\nSunday | Noon – 5 PM\nMonday | Closed
URL:https://www.fwmuseum.org/calendar/museum-closed-3-2/2027-09-27/
LOCATION:Fort Worth Museum of Science and History\, 1600 Gendy Street\, Fort Worth\, TX\, 76107\, United States
END:VEVENT
BEGIN:VEVENT
DTSTART;TZID=America/Chicago:20270928T090000
DTEND;TZID=America/Chicago:20270928T100000
DTSTAMP:20260422T211124
CREATED:20260325T215621Z
LAST-MODIFIED:20260325T215621Z
UID:10003269-1822122000-1822125600@www.fwmuseum.org
SUMMARY:Member Morning
DESCRIPTION:Museum Members get early entry to the TCU Children’s Gallery every Tuesday from 9AM-10AM! \nEarly entry only applies to the TCU Children’s Gallery\, the rest of the Museum opens at 10AM. \nNot a Member yet? Click here to join!
URL:https://www.fwmuseum.org/calendar/member-morning/2027-09-28/
LOCATION:Fort Worth Museum of Science and History\, 1600 Gendy Street\, Fort Worth\, TX\, 76107\, United States
CATEGORIES:Member Events
END:VEVENT
END:VCALENDAR